BEGIN:VCALENDAR
VERSION:2.0
METHOD:PUBLISH
PRODID:- PBCS IT-News //NONSGML Events //EN
CALSCALE:GREGORIAN
X-WR-CALNAME:ICAL-BLOG
BEGIN:VEVENT
UID:ffd12db5-39f2-44ff-883c-bb3194d484d7
DTSTAMP:20260424T071113Z
CREATED:20260424T071113Z
SUMMARY:Quizfrage 3310
DESCRIPTION:https://wp.pbcs.de/question/quizfrage-3310/ - Artikel vom: Mo.\, 29. September 2025\, 19:07:16 - Wann begann die Ausstrahlung des Farbfernsehens in der damaligen BRD?
LOCATION:https://wp.pbcs.de
CATEGORIES:Gelbe Kategorie
TRANSP:TRANSPARENT
X-MICROSOFT-CDO-BUSYSTATUS:FREE
SEQUENCE:0
CLASS:PUBLIC
PRIORITY:1
DTSTART:20260424T070000Z
DTEND:20260424T080000Z
BEGIN:VALARM
TRIGGER:-PT30M
ACTION:DISPLAY
DESCRIPTION:Reminder for Quizfrage 3310
END:VALARM
END:VEVENT
END:VCALENDAR
