BEGIN:VCALENDAR
VERSION:2.0
METHOD:PUBLISH
PRODID:- PBCS IT-News //NONSGML Events //EN
CALSCALE:GREGORIAN
X-WR-CALNAME:ICAL-BLOG
BEGIN:VEVENT
UID:9b614fe0-72ec-41ea-86c2-f9d70607c3d3
DTSTAMP:20260424T134733Z
CREATED:20260424T134733Z
SUMMARY:Quizfrage 3306
DESCRIPTION:https://wp.pbcs.de/question/quizfrage-3306/ - Artikel vom: Mo.\, 29. September 2025\, 19:07:16 - Mit nur 6 cm ist er der kleinste Vogel der Welt. Wie heißt er?
LOCATION:https://wp.pbcs.de
CATEGORIES:Gelbe Kategorie
TRANSP:TRANSPARENT
X-MICROSOFT-CDO-BUSYSTATUS:FREE
SEQUENCE:0
CLASS:PUBLIC
PRIORITY:1
DTSTART:20260425T070000Z
DTEND:20260425T080000Z
BEGIN:VALARM
TRIGGER:-PT30M
ACTION:DISPLAY
DESCRIPTION:Reminder for Quizfrage 3306
END:VALARM
END:VEVENT
END:VCALENDAR
