BEGIN:VCALENDAR
VERSION:2.0
METHOD:PUBLISH
PRODID:- PBCS IT-News //NONSGML Events //EN
CALSCALE:GREGORIAN
X-WR-CALNAME:ICAL-BLOG
BEGIN:VEVENT
UID:fb526bda-2038-4181-984e-edd10542907f
DTSTAMP:20260425T120548Z
CREATED:20260425T120548Z
SUMMARY:Quizfrage 3303
DESCRIPTION:https://wp.pbcs.de/question/quizfrage-3303/ - Artikel vom: Mo.\, 29. September 2025\, 19:07:16 - Franz Liszt war ein Virtuose
LOCATION:https://wp.pbcs.de
CATEGORIES:Gelbe Kategorie
TRANSP:TRANSPARENT
X-MICROSOFT-CDO-BUSYSTATUS:FREE
SEQUENCE:0
CLASS:PUBLIC
PRIORITY:1
DTSTART:20260426T070000Z
DTEND:20260426T080000Z
BEGIN:VALARM
TRIGGER:-PT30M
ACTION:DISPLAY
DESCRIPTION:Reminder for Quizfrage 3303
END:VALARM
END:VEVENT
END:VCALENDAR
