BEGIN:VCALENDAR
VERSION:2.0
METHOD:PUBLISH
PRODID:- PBCS IT-News //NONSGML Events //EN
CALSCALE:GREGORIAN
X-WR-CALNAME:ICAL-BLOG
BEGIN:VEVENT
UID:61665e37-9978-4e24-85ae-7f8423cd677c
DTSTAMP:20260420T163441Z
CREATED:20260420T163441Z
SUMMARY:Quizfrage 3283
DESCRIPTION:https://wp.pbcs.de/question/quizfrage-3283/ - Artikel vom: Mo.\, 29. September 2025\, 19:07:14 - Rechtschreibung: Am kommenden Sonntag kannst du ????? ins Kino.
LOCATION:https://wp.pbcs.de
CATEGORIES:Gelbe Kategorie
TRANSP:TRANSPARENT
X-MICROSOFT-CDO-BUSYSTATUS:FREE
SEQUENCE:0
CLASS:PUBLIC
PRIORITY:1
DTSTART:20260421T070000Z
DTEND:20260421T080000Z
BEGIN:VALARM
TRIGGER:-PT30M
ACTION:DISPLAY
DESCRIPTION:Reminder for Quizfrage 3283
END:VALARM
END:VEVENT
END:VCALENDAR
