BEGIN:VCALENDAR
VERSION:2.0
METHOD:PUBLISH
PRODID:- PBCS IT-News //NONSGML Events //EN
CALSCALE:GREGORIAN
X-WR-CALNAME:ICAL-BLOG
BEGIN:VEVENT
UID:123ab36f-5dd9-476c-8c7b-f51330a986ab
DTSTAMP:20260423T183324Z
CREATED:20260423T183324Z
SUMMARY:Quizfrage 3244
DESCRIPTION:https://wp.pbcs.de/question/quizfrage-3244/ - Artikel vom: Mo.\, 29. September 2025\, 19:07:12 - Was ist ein Haiku?
LOCATION:https://wp.pbcs.de
CATEGORIES:Gelbe Kategorie
TRANSP:TRANSPARENT
X-MICROSOFT-CDO-BUSYSTATUS:FREE
SEQUENCE:0
CLASS:PUBLIC
PRIORITY:1
DTSTART:20260424T070000Z
DTEND:20260424T080000Z
BEGIN:VALARM
TRIGGER:-PT30M
ACTION:DISPLAY
DESCRIPTION:Reminder for Quizfrage 3244
END:VALARM
END:VEVENT
END:VCALENDAR
