BEGIN:VCALENDAR
VERSION:2.0
METHOD:PUBLISH
PRODID:- PBCS IT-News //NONSGML Events //EN
CALSCALE:GREGORIAN
X-WR-CALNAME:ICAL-BLOG
BEGIN:VEVENT
UID:94185ab3-0e53-4c00-83b4-2ba24ea95ba3
DTSTAMP:20260421T125419Z
CREATED:20260421T125419Z
SUMMARY:Quizfrage 3226
DESCRIPTION:https://wp.pbcs.de/question/quizfrage-3226/ - Artikel vom: Mo.\, 29. September 2025\, 19:07:12 - Kartfahren: Woraus besteht eine typische Kart-Veranstaltung (in Reihenfolge)?
LOCATION:https://wp.pbcs.de
CATEGORIES:Gelbe Kategorie
TRANSP:TRANSPARENT
X-MICROSOFT-CDO-BUSYSTATUS:FREE
SEQUENCE:0
CLASS:PUBLIC
PRIORITY:1
DTSTART:20260418T070000Z
DTEND:20260418T080000Z
BEGIN:VALARM
TRIGGER:-PT30M
ACTION:DISPLAY
DESCRIPTION:Reminder for Quizfrage 3226
END:VALARM
END:VEVENT
END:VCALENDAR
