BEGIN:VCALENDAR
VERSION:2.0
METHOD:PUBLISH
PRODID:- PBCS IT-News //NONSGML Events //EN
CALSCALE:GREGORIAN
X-WR-CALNAME:ICAL-BLOG
BEGIN:VEVENT
UID:7cf86804-1347-4031-86f8-e4b2efee99fa
DTSTAMP:20260425T115750Z
CREATED:20260425T115750Z
SUMMARY:Quizfrage 3221
DESCRIPTION:https://wp.pbcs.de/question/quizfrage-3221/ - Artikel vom: Mo.\, 29. September 2025\, 19:07:11 - IT-Wissen: Welche Betriebssysteme sind waren offiziell bis Juli 2016 lizenzkostenfrei auf Windows 10 aktualisierbar?
LOCATION:https://wp.pbcs.de
CATEGORIES:Gelbe Kategorie
TRANSP:TRANSPARENT
X-MICROSOFT-CDO-BUSYSTATUS:FREE
SEQUENCE:0
CLASS:PUBLIC
PRIORITY:1
DTSTART:20260426T070000Z
DTEND:20260426T080000Z
BEGIN:VALARM
TRIGGER:-PT30M
ACTION:DISPLAY
DESCRIPTION:Reminder for Quizfrage 3221
END:VALARM
END:VEVENT
END:VCALENDAR
