BEGIN:VCALENDAR
VERSION:2.0
METHOD:PUBLISH
PRODID:- PBCS IT-News //NONSGML Events //EN
CALSCALE:GREGORIAN
X-WR-CALNAME:ICAL-BLOG
BEGIN:VEVENT
UID:d5b552e8-a3ce-4291-98f4-5989ce6107f8
DTSTAMP:20260425T032002Z
CREATED:20260425T032002Z
SUMMARY:Quizfrage 3209
DESCRIPTION:https://wp.pbcs.de/question/quizfrage-3209/ - Artikel vom: Mo.\, 29. September 2025\, 19:07:11 - Liedtext: I bit my tongue and held my breath - afraid of rocking the boat and causing chaos
LOCATION:https://wp.pbcs.de
CATEGORIES:Gelbe Kategorie
TRANSP:TRANSPARENT
X-MICROSOFT-CDO-BUSYSTATUS:FREE
SEQUENCE:0
CLASS:PUBLIC
PRIORITY:1
DTSTART:20260425T070000Z
DTEND:20260425T080000Z
BEGIN:VALARM
TRIGGER:-PT30M
ACTION:DISPLAY
DESCRIPTION:Reminder for Quizfrage 3209
END:VALARM
END:VEVENT
END:VCALENDAR
