BEGIN:VCALENDAR
VERSION:2.0
METHOD:PUBLISH
PRODID:- PBCS IT-News //NONSGML Events //EN
CALSCALE:GREGORIAN
X-WR-CALNAME:ICAL-BLOG
BEGIN:VEVENT
UID:c69dd287-bd21-455b-ba35-9cbb50af3a8a
DTSTAMP:20260423T104321Z
CREATED:20260423T104321Z
SUMMARY:Quizfrage 3181
DESCRIPTION:https://wp.pbcs.de/question/quizfrage-3181/ - Artikel vom: Mo.\, 29. September 2025\, 19:07:09 - Liedtext: Its been seven hours and fifteen days since you took your love away
LOCATION:https://wp.pbcs.de
CATEGORIES:Gelbe Kategorie
TRANSP:TRANSPARENT
X-MICROSOFT-CDO-BUSYSTATUS:FREE
SEQUENCE:0
CLASS:PUBLIC
PRIORITY:1
DTSTART:20260424T070000Z
DTEND:20260424T080000Z
BEGIN:VALARM
TRIGGER:-PT30M
ACTION:DISPLAY
DESCRIPTION:Reminder for Quizfrage 3181
END:VALARM
END:VEVENT
END:VCALENDAR
