BEGIN:VCALENDAR
VERSION:2.0
METHOD:PUBLISH
PRODID:- PBCS IT-News //NONSGML Events //EN
CALSCALE:GREGORIAN
X-WR-CALNAME:ICAL-BLOG
BEGIN:VEVENT
UID:711f8104-e34e-4d19-83eb-9086b1f33e71
DTSTAMP:20260419T133549Z
CREATED:20260419T133549Z
SUMMARY:Quizfrage 3129
DESCRIPTION:https://wp.pbcs.de/question/quizfrage-3129/ - Artikel vom: Mo.\, 29. September 2025\, 19:07:06 - Wie heißt die Hauptstadt von Thüringen?
LOCATION:https://wp.pbcs.de
CATEGORIES:Gelbe Kategorie
TRANSP:TRANSPARENT
X-MICROSOFT-CDO-BUSYSTATUS:FREE
SEQUENCE:0
CLASS:PUBLIC
PRIORITY:1
DTSTART:20260416T070000Z
DTEND:20260416T080000Z
BEGIN:VALARM
TRIGGER:-PT30M
ACTION:DISPLAY
DESCRIPTION:Reminder for Quizfrage 3129
END:VALARM
END:VEVENT
END:VCALENDAR
