BEGIN:VCALENDAR
VERSION:2.0
METHOD:PUBLISH
PRODID:- PBCS IT-News //NONSGML Events //EN
CALSCALE:GREGORIAN
X-WR-CALNAME:ICAL-BLOG
BEGIN:VEVENT
UID:8b65274d-df23-4272-97e1-0ee7b64f7dc4
DTSTAMP:20260422T230331Z
CREATED:20260422T230331Z
SUMMARY:Quizfrage 3111
DESCRIPTION:https://wp.pbcs.de/question/quizfrage-3111/ - Artikel vom: Mo.\, 29. September 2025\, 19:07:05 - Powerpoint: Wie können Sie die Vorlage ändern auf der die Folien basieren
LOCATION:https://wp.pbcs.de
CATEGORIES:Gelbe Kategorie
TRANSP:TRANSPARENT
X-MICROSOFT-CDO-BUSYSTATUS:FREE
SEQUENCE:0
CLASS:PUBLIC
PRIORITY:1
DTSTART:20260423T070000Z
DTEND:20260423T080000Z
BEGIN:VALARM
TRIGGER:-PT30M
ACTION:DISPLAY
DESCRIPTION:Reminder for Quizfrage 3111
END:VALARM
END:VEVENT
END:VCALENDAR
