BEGIN:VCALENDAR
VERSION:2.0
METHOD:PUBLISH
PRODID:- PBCS IT-News //NONSGML Events //EN
CALSCALE:GREGORIAN
X-WR-CALNAME:ICAL-BLOG
BEGIN:VEVENT
UID:75f004e6-7f13-4512-8d72-9477f8f71b76
DTSTAMP:20260423T061845Z
CREATED:20260423T061845Z
SUMMARY:Quizfrage 3079
DESCRIPTION:https://wp.pbcs.de/question/quizfrage-3079/ - Artikel vom: Mo.\, 29. September 2025\, 19:07:03 - Welcher Fall tut nicht weh?
LOCATION:https://wp.pbcs.de
CATEGORIES:Gelbe Kategorie
TRANSP:TRANSPARENT
X-MICROSOFT-CDO-BUSYSTATUS:FREE
SEQUENCE:0
CLASS:PUBLIC
PRIORITY:1
DTSTART:20260423T070000Z
DTEND:20260423T080000Z
BEGIN:VALARM
TRIGGER:-PT30M
ACTION:DISPLAY
DESCRIPTION:Reminder for Quizfrage 3079
END:VALARM
END:VEVENT
END:VCALENDAR
