BEGIN:VCALENDAR
VERSION:2.0
METHOD:PUBLISH
PRODID:- PBCS IT-News //NONSGML Events //EN
CALSCALE:GREGORIAN
X-WR-CALNAME:ICAL-BLOG
BEGIN:VEVENT
UID:ab0ce834-eb5b-48c5-990f-c95e7a9e17a5
DTSTAMP:20260424T115629Z
CREATED:20260424T115629Z
SUMMARY:Quizfrage 3076
DESCRIPTION:https://wp.pbcs.de/question/quizfrage-3076/ - Artikel vom: Mo.\, 29. September 2025\, 19:07:03 - Welche Pferde haben zwei Füße?
LOCATION:https://wp.pbcs.de
CATEGORIES:Gelbe Kategorie
TRANSP:TRANSPARENT
X-MICROSOFT-CDO-BUSYSTATUS:FREE
SEQUENCE:0
CLASS:PUBLIC
PRIORITY:1
DTSTART:20260425T070000Z
DTEND:20260425T080000Z
BEGIN:VALARM
TRIGGER:-PT30M
ACTION:DISPLAY
DESCRIPTION:Reminder for Quizfrage 3076
END:VALARM
END:VEVENT
END:VCALENDAR
