BEGIN:VCALENDAR
VERSION:2.0
METHOD:PUBLISH
PRODID:- PBCS IT-News //NONSGML Events //EN
CALSCALE:GREGORIAN
X-WR-CALNAME:ICAL-BLOG
BEGIN:VEVENT
UID:d01527c3-0a16-4483-9646-d421d7705d27
DTSTAMP:20260423T204943Z
CREATED:20260423T204943Z
SUMMARY:Quizfrage 3065
DESCRIPTION:https://wp.pbcs.de/question/quizfrage-3065/ - Artikel vom: Mo.\, 29. September 2025\, 19:07:03 - Wann hat der Mensch so viele Augen wie das Jahr Tage hat?
LOCATION:https://wp.pbcs.de
CATEGORIES:Gelbe Kategorie
TRANSP:TRANSPARENT
X-MICROSOFT-CDO-BUSYSTATUS:FREE
SEQUENCE:0
CLASS:PUBLIC
PRIORITY:1
DTSTART:20260424T070000Z
DTEND:20260424T080000Z
BEGIN:VALARM
TRIGGER:-PT30M
ACTION:DISPLAY
DESCRIPTION:Reminder for Quizfrage 3065
END:VALARM
END:VEVENT
END:VCALENDAR
