BEGIN:VCALENDAR
VERSION:2.0
METHOD:PUBLISH
PRODID:- PBCS IT-News //NONSGML Events //EN
CALSCALE:GREGORIAN
X-WR-CALNAME:ICAL-BLOG
BEGIN:VEVENT
UID:1fbf1778-3c70-4724-af5a-4e6bc7f699d7
DTSTAMP:20260425T151323Z
CREATED:20260425T151323Z
SUMMARY:Quizfrage 3058
DESCRIPTION:https://wp.pbcs.de/question/quizfrage-3058/ - Artikel vom: Mo.\, 29. September 2025\, 19:07:02 - Ich habe es nicht ich mag es auch nicht hätte ich es aber dann gäbe ich es um alle Schätze der Welt nicht her.
LOCATION:https://wp.pbcs.de
CATEGORIES:Gelbe Kategorie
TRANSP:TRANSPARENT
X-MICROSOFT-CDO-BUSYSTATUS:FREE
SEQUENCE:0
CLASS:PUBLIC
PRIORITY:1
DTSTART:20260426T070000Z
DTEND:20260426T080000Z
BEGIN:VALARM
TRIGGER:-PT30M
ACTION:DISPLAY
DESCRIPTION:Reminder for Quizfrage 3058
END:VALARM
END:VEVENT
END:VCALENDAR
