BEGIN:VCALENDAR
VERSION:2.0
METHOD:PUBLISH
PRODID:- PBCS IT-News //NONSGML Events //EN
CALSCALE:GREGORIAN
X-WR-CALNAME:ICAL-BLOG
BEGIN:VEVENT
UID:a121f69f-4f80-429f-95fd-44032fd37a93
DTSTAMP:20260425T163713Z
CREATED:20260425T163713Z
SUMMARY:Quizfrage 3055
DESCRIPTION:https://wp.pbcs.de/question/quizfrage-3055/ - Artikel vom: Mo.\, 29. September 2025\, 19:07:02 - Darf man die Schwiegermutter der Frau seines Bruders heiraten?
LOCATION:https://wp.pbcs.de
CATEGORIES:Gelbe Kategorie
TRANSP:TRANSPARENT
X-MICROSOFT-CDO-BUSYSTATUS:FREE
SEQUENCE:0
CLASS:PUBLIC
PRIORITY:1
DTSTART:20260426T070000Z
DTEND:20260426T080000Z
BEGIN:VALARM
TRIGGER:-PT30M
ACTION:DISPLAY
DESCRIPTION:Reminder for Quizfrage 3055
END:VALARM
END:VEVENT
END:VCALENDAR
