BEGIN:VCALENDAR
VERSION:2.0
METHOD:PUBLISH
PRODID:- PBCS IT-News //NONSGML Events //EN
CALSCALE:GREGORIAN
X-WR-CALNAME:ICAL-BLOG
BEGIN:VEVENT
UID:3b182ec2-23f7-4625-aef2-18809fda3b17
DTSTAMP:20260424T154807Z
CREATED:20260424T154807Z
SUMMARY:Quizfrage 3021
DESCRIPTION:https://wp.pbcs.de/question/quizfrage-3021/ - Artikel vom: Mo.\, 29. September 2025\, 19:06:59 - Wer spielte die Hauptrolle in den Filmen Nosferatu und Fitzcaraldo?
LOCATION:https://wp.pbcs.de
CATEGORIES:Gelbe Kategorie
TRANSP:TRANSPARENT
X-MICROSOFT-CDO-BUSYSTATUS:FREE
SEQUENCE:0
CLASS:PUBLIC
PRIORITY:1
DTSTART:20260425T070000Z
DTEND:20260425T080000Z
BEGIN:VALARM
TRIGGER:-PT30M
ACTION:DISPLAY
DESCRIPTION:Reminder for Quizfrage 3021
END:VALARM
END:VEVENT
END:VCALENDAR
