BEGIN:VCALENDAR
VERSION:2.0
METHOD:PUBLISH
PRODID:- PBCS IT-News //NONSGML Events //EN
CALSCALE:GREGORIAN
X-WR-CALNAME:ICAL-BLOG
BEGIN:VEVENT
UID:61fcb056-c92f-459e-98ff-4e962c8c43b1
DTSTAMP:20260419T132320Z
CREATED:20260419T132320Z
SUMMARY:Quizfrage 3017
DESCRIPTION:https://wp.pbcs.de/question/quizfrage-3017/ - Artikel vom: Mo.\, 29. September 2025\, 19:06:59 - Wer führte im Film Manche mögen-s heiß mit Marilyn Monroe Regie?
LOCATION:https://wp.pbcs.de
CATEGORIES:Gelbe Kategorie
TRANSP:TRANSPARENT
X-MICROSOFT-CDO-BUSYSTATUS:FREE
SEQUENCE:0
CLASS:PUBLIC
PRIORITY:1
DTSTART:20260416T070000Z
DTEND:20260416T080000Z
BEGIN:VALARM
TRIGGER:-PT30M
ACTION:DISPLAY
DESCRIPTION:Reminder for Quizfrage 3017
END:VALARM
END:VEVENT
END:VCALENDAR
