BEGIN:VCALENDAR
VERSION:2.0
METHOD:PUBLISH
PRODID:- PBCS IT-News //NONSGML Events //EN
CALSCALE:GREGORIAN
X-WR-CALNAME:ICAL-BLOG
BEGIN:VEVENT
UID:0a2f8111-36f3-464b-8e27-cad9971ec948
DTSTAMP:20260424T001030Z
CREATED:20260424T001030Z
SUMMARY:Quizfrage 2967
DESCRIPTION:https://wp.pbcs.de/question/quizfrage-2967/ - Artikel vom: Mo.\, 29. September 2025\, 19:06:57 - Wozu dienen Barbiturate?
LOCATION:https://wp.pbcs.de
CATEGORIES:Gelbe Kategorie
TRANSP:TRANSPARENT
X-MICROSOFT-CDO-BUSYSTATUS:FREE
SEQUENCE:0
CLASS:PUBLIC
PRIORITY:1
DTSTART:20260424T070000Z
DTEND:20260424T080000Z
BEGIN:VALARM
TRIGGER:-PT30M
ACTION:DISPLAY
DESCRIPTION:Reminder for Quizfrage 2967
END:VALARM
END:VEVENT
END:VCALENDAR
