BEGIN:VCALENDAR
VERSION:2.0
METHOD:PUBLISH
PRODID:- PBCS IT-News //NONSGML Events //EN
CALSCALE:GREGORIAN
X-WR-CALNAME:ICAL-BLOG
BEGIN:VEVENT
UID:a2fb4fec-c872-4bc8-af84-6b63dd037fbf
DTSTAMP:20260424T163541Z
CREATED:20260424T163541Z
SUMMARY:Quizfrage 2956
DESCRIPTION:https://wp.pbcs.de/question/quizfrage-2956/ - Artikel vom: Mo.\, 29. September 2025\, 19:06:56 - Wer entdeckte die elektromagnetischen Wellen?
LOCATION:https://wp.pbcs.de
CATEGORIES:Gelbe Kategorie
TRANSP:TRANSPARENT
X-MICROSOFT-CDO-BUSYSTATUS:FREE
SEQUENCE:0
CLASS:PUBLIC
PRIORITY:1
DTSTART:20260424T070000Z
DTEND:20260424T080000Z
BEGIN:VALARM
TRIGGER:-PT30M
ACTION:DISPLAY
DESCRIPTION:Reminder for Quizfrage 2956
END:VALARM
END:VEVENT
END:VCALENDAR
