BEGIN:VCALENDAR
VERSION:2.0
METHOD:PUBLISH
PRODID:- PBCS IT-News //NONSGML Events //EN
CALSCALE:GREGORIAN
X-WR-CALNAME:ICAL-BLOG
BEGIN:VEVENT
UID:e0aa1005-223c-4073-abec-7a0c3e9e8c93
DTSTAMP:20260424T095804Z
CREATED:20260424T095804Z
SUMMARY:Quizfrage 2946
DESCRIPTION:https://wp.pbcs.de/question/quizfrage-2946/ - Artikel vom: Mo.\, 29. September 2025\, 19:06:55 - Wer erfand: Den Revolver?
LOCATION:https://wp.pbcs.de
CATEGORIES:Gelbe Kategorie
TRANSP:TRANSPARENT
X-MICROSOFT-CDO-BUSYSTATUS:FREE
SEQUENCE:0
CLASS:PUBLIC
PRIORITY:1
DTSTART:20260424T070000Z
DTEND:20260424T080000Z
BEGIN:VALARM
TRIGGER:-PT30M
ACTION:DISPLAY
DESCRIPTION:Reminder for Quizfrage 2946
END:VALARM
END:VEVENT
END:VCALENDAR
