BEGIN:VCALENDAR
VERSION:2.0
METHOD:PUBLISH
PRODID:- PBCS IT-News //NONSGML Events //EN
CALSCALE:GREGORIAN
X-WR-CALNAME:ICAL-BLOG
BEGIN:VEVENT
UID:44cf9a8c-6424-49bd-8964-df9f56e23023
DTSTAMP:20260422T193801Z
CREATED:20260422T193801Z
SUMMARY:Quizfrage 2804
DESCRIPTION:https://wp.pbcs.de/question/quizfrage-2804/ - Artikel vom: Mo.\, 29. September 2025\, 19:06:54 - Mit wie vielen Figuren startet ein Schachspiel?
LOCATION:https://wp.pbcs.de
CATEGORIES:Gelbe Kategorie
TRANSP:TRANSPARENT
X-MICROSOFT-CDO-BUSYSTATUS:FREE
SEQUENCE:0
CLASS:PUBLIC
PRIORITY:1
DTSTART:20260423T070000Z
DTEND:20260423T080000Z
BEGIN:VALARM
TRIGGER:-PT30M
ACTION:DISPLAY
DESCRIPTION:Reminder for Quizfrage 2804
END:VALARM
END:VEVENT
END:VCALENDAR
