BEGIN:VCALENDAR
VERSION:2.0
METHOD:PUBLISH
PRODID:- PBCS IT-News //NONSGML Events //EN
CALSCALE:GREGORIAN
X-WR-CALNAME:ICAL-BLOG
BEGIN:VEVENT
UID:9a375747-39f4-4c14-9e8d-8de1fe06343c
DTSTAMP:20260425T164005Z
CREATED:20260425T164005Z
SUMMARY:Quizfrage 2800
DESCRIPTION:https://wp.pbcs.de/question/quizfrage-2800/ - Artikel vom: Mo.\, 29. September 2025\, 19:06:54 - Aus wie vielen Kräuter ist Jägermeister gemacht?
LOCATION:https://wp.pbcs.de
CATEGORIES:Gelbe Kategorie
TRANSP:TRANSPARENT
X-MICROSOFT-CDO-BUSYSTATUS:FREE
SEQUENCE:0
CLASS:PUBLIC
PRIORITY:1
DTSTART:20260426T070000Z
DTEND:20260426T080000Z
BEGIN:VALARM
TRIGGER:-PT30M
ACTION:DISPLAY
DESCRIPTION:Reminder for Quizfrage 2800
END:VALARM
END:VEVENT
END:VCALENDAR
