BEGIN:VCALENDAR
VERSION:2.0
METHOD:PUBLISH
PRODID:- PBCS IT-News //NONSGML Events //EN
CALSCALE:GREGORIAN
X-WR-CALNAME:ICAL-BLOG
BEGIN:VEVENT
UID:f282b3b7-c147-470b-9a5e-9cd2380f1aef
DTSTAMP:20260419T180923Z
CREATED:20260419T180923Z
SUMMARY:Quizfrage 2794
DESCRIPTION:https://wp.pbcs.de/question/quizfrage-2794/ - Artikel vom: Mo.\, 29. September 2025\, 19:06:54 - In welcher Stadt wurden die Olympischen Spiele 2000 ausgetragen?
LOCATION:https://wp.pbcs.de
CATEGORIES:Gelbe Kategorie
TRANSP:TRANSPARENT
X-MICROSOFT-CDO-BUSYSTATUS:FREE
SEQUENCE:0
CLASS:PUBLIC
PRIORITY:1
DTSTART:20260420T070000Z
DTEND:20260420T080000Z
BEGIN:VALARM
TRIGGER:-PT30M
ACTION:DISPLAY
DESCRIPTION:Reminder for Quizfrage 2794
END:VALARM
END:VEVENT
END:VCALENDAR
