BEGIN:VCALENDAR
VERSION:2.0
METHOD:PUBLISH
PRODID:- PBCS IT-News //NONSGML Events //EN
CALSCALE:GREGORIAN
X-WR-CALNAME:ICAL-BLOG
BEGIN:VEVENT
UID:c528b08d-d31c-460e-9bbc-ca65b7f5a358
DTSTAMP:20260423T061710Z
CREATED:20260423T061710Z
SUMMARY:Quizfrage 2769
DESCRIPTION:https://wp.pbcs.de/question/quizfrage-2769/ - Artikel vom: Mo.\, 29. September 2025\, 19:06:53 - Wie viele Einkerbungen hat ein Golfball?
LOCATION:https://wp.pbcs.de
CATEGORIES:Gelbe Kategorie
TRANSP:TRANSPARENT
X-MICROSOFT-CDO-BUSYSTATUS:FREE
SEQUENCE:0
CLASS:PUBLIC
PRIORITY:1
DTSTART:20260423T070000Z
DTEND:20260423T080000Z
BEGIN:VALARM
TRIGGER:-PT30M
ACTION:DISPLAY
DESCRIPTION:Reminder for Quizfrage 2769
END:VALARM
END:VEVENT
END:VCALENDAR
