BEGIN:VCALENDAR
VERSION:2.0
METHOD:PUBLISH
PRODID:- PBCS IT-News //NONSGML Events //EN
CALSCALE:GREGORIAN
X-WR-CALNAME:ICAL-BLOG
BEGIN:VEVENT
UID:2b9f74cd-3a5a-4ac5-a92b-a0630c98fcbd
DTSTAMP:20260425T032327Z
CREATED:20260425T032327Z
SUMMARY:Quizfrage 2735
DESCRIPTION:https://wp.pbcs.de/question/quizfrage-2735/ - Artikel vom: Mo.\, 29. September 2025\, 19:06:51 - In welchem Land? Azadi-Denkmal
LOCATION:https://wp.pbcs.de
CATEGORIES:Gelbe Kategorie
TRANSP:TRANSPARENT
X-MICROSOFT-CDO-BUSYSTATUS:FREE
SEQUENCE:0
CLASS:PUBLIC
PRIORITY:1
DTSTART:20260425T070000Z
DTEND:20260425T080000Z
BEGIN:VALARM
TRIGGER:-PT30M
ACTION:DISPLAY
DESCRIPTION:Reminder for Quizfrage 2735
END:VALARM
END:VEVENT
END:VCALENDAR
