BEGIN:VCALENDAR
VERSION:2.0
METHOD:PUBLISH
PRODID:- PBCS IT-News //NONSGML Events //EN
CALSCALE:GREGORIAN
X-WR-CALNAME:ICAL-BLOG
BEGIN:VEVENT
UID:5f7ec495-7a18-45a6-9d5b-1b441f149984
DTSTAMP:20260425T134957Z
CREATED:20260425T134957Z
SUMMARY:Quizfrage 2728
DESCRIPTION:https://wp.pbcs.de/question/quizfrage-2728/ - Artikel vom: Mo.\, 29. September 2025\, 19:06:50 - In welchem Land? Colosseum
LOCATION:https://wp.pbcs.de
CATEGORIES:Gelbe Kategorie
TRANSP:TRANSPARENT
X-MICROSOFT-CDO-BUSYSTATUS:FREE
SEQUENCE:0
CLASS:PUBLIC
PRIORITY:1
DTSTART:20260426T070000Z
DTEND:20260426T080000Z
BEGIN:VALARM
TRIGGER:-PT30M
ACTION:DISPLAY
DESCRIPTION:Reminder for Quizfrage 2728
END:VALARM
END:VEVENT
END:VCALENDAR
