BEGIN:VCALENDAR
VERSION:2.0
METHOD:PUBLISH
PRODID:- PBCS IT-News //NONSGML Events //EN
CALSCALE:GREGORIAN
X-WR-CALNAME:ICAL-BLOG
BEGIN:VEVENT
UID:e22d54e2-8e53-446f-8c0e-3a6ece2442e4
DTSTAMP:20260425T225016Z
CREATED:20260425T225016Z
SUMMARY:Quizfrage 2727
DESCRIPTION:https://wp.pbcs.de/question/quizfrage-2727/ - Artikel vom: Mo.\, 29. September 2025\, 19:06:50 - In welchem Land? Pyramide von Gizeh und die Große Sphinx
LOCATION:https://wp.pbcs.de
CATEGORIES:Gelbe Kategorie
TRANSP:TRANSPARENT
X-MICROSOFT-CDO-BUSYSTATUS:FREE
SEQUENCE:0
CLASS:PUBLIC
PRIORITY:1
DTSTART:20260426T070000Z
DTEND:20260426T080000Z
BEGIN:VALARM
TRIGGER:-PT30M
ACTION:DISPLAY
DESCRIPTION:Reminder for Quizfrage 2727
END:VALARM
END:VEVENT
END:VCALENDAR
