BEGIN:VCALENDAR
VERSION:2.0
METHOD:PUBLISH
PRODID:- PBCS IT-News //NONSGML Events //EN
CALSCALE:GREGORIAN
X-WR-CALNAME:ICAL-BLOG
BEGIN:VEVENT
UID:f3a6c09b-703f-4e25-9656-6fe3cf5b755a
DTSTAMP:20260425T185649Z
CREATED:20260425T185649Z
SUMMARY:Quizfrage 2714
DESCRIPTION:https://wp.pbcs.de/question/quizfrage-2714/ - Artikel vom: Mo.\, 29. September 2025\, 19:06:49 - Können Sie den Stürmer von Sheffield United nennen der im August 1992 beim 2: 1-Sieg gegen Manchester United das erste Tor in der Premier League erzielte?
LOCATION:https://wp.pbcs.de
CATEGORIES:Gelbe Kategorie
TRANSP:TRANSPARENT
X-MICROSOFT-CDO-BUSYSTATUS:FREE
SEQUENCE:0
CLASS:PUBLIC
PRIORITY:1
DTSTART:20260426T070000Z
DTEND:20260426T080000Z
BEGIN:VALARM
TRIGGER:-PT30M
ACTION:DISPLAY
DESCRIPTION:Reminder for Quizfrage 2714
END:VALARM
END:VEVENT
END:VCALENDAR
