BEGIN:VCALENDAR
VERSION:2.0
METHOD:PUBLISH
PRODID:- PBCS IT-News //NONSGML Events //EN
CALSCALE:GREGORIAN
X-WR-CALNAME:ICAL-BLOG
BEGIN:VEVENT
UID:0b701094-3021-4474-a4f6-05f7baf89719
DTSTAMP:20260425T153347Z
CREATED:20260425T153347Z
SUMMARY:Quizfrage 2684
DESCRIPTION:https://wp.pbcs.de/question/quizfrage-2684/ - Artikel vom: Mo.\, 29. September 2025\, 19:06:48 - Wie viele Haare hat ein typischer menschlicher Kopf auf die nächsten tausend?
LOCATION:https://wp.pbcs.de
CATEGORIES:Gelbe Kategorie
TRANSP:TRANSPARENT
X-MICROSOFT-CDO-BUSYSTATUS:FREE
SEQUENCE:0
CLASS:PUBLIC
PRIORITY:1
DTSTART:20260426T070000Z
DTEND:20260426T080000Z
BEGIN:VALARM
TRIGGER:-PT30M
ACTION:DISPLAY
DESCRIPTION:Reminder for Quizfrage 2684
END:VALARM
END:VEVENT
END:VCALENDAR
