BEGIN:VCALENDAR
VERSION:2.0
METHOD:PUBLISH
PRODID:- PBCS IT-News //NONSGML Events //EN
CALSCALE:GREGORIAN
X-WR-CALNAME:ICAL-BLOG
BEGIN:VEVENT
UID:5f139989-4069-438e-af6b-5f4e84ba272b
DTSTAMP:20260422T212047Z
CREATED:20260422T212047Z
SUMMARY:Quizfrage 2684
DESCRIPTION:https://wp.pbcs.de/question/quizfrage-2684/ - Artikel vom: Mo.\, 29. September 2025\, 19:06:48 - Wie viele Haare hat ein typischer menschlicher Kopf auf die nächsten tausend?
LOCATION:https://wp.pbcs.de
CATEGORIES:Gelbe Kategorie
TRANSP:TRANSPARENT
X-MICROSOFT-CDO-BUSYSTATUS:FREE
SEQUENCE:0
CLASS:PUBLIC
PRIORITY:1
DTSTART:20260423T070000Z
DTEND:20260423T080000Z
BEGIN:VALARM
TRIGGER:-PT30M
ACTION:DISPLAY
DESCRIPTION:Reminder for Quizfrage 2684
END:VALARM
END:VEVENT
END:VCALENDAR
