BEGIN:VCALENDAR
VERSION:2.0
METHOD:PUBLISH
PRODID:- PBCS IT-News //NONSGML Events //EN
CALSCALE:GREGORIAN
X-WR-CALNAME:ICAL-BLOG
BEGIN:VEVENT
UID:e4f66ebf-7869-400a-8ca9-44f4963c3965
DTSTAMP:20260424T050452Z
CREATED:20260424T050452Z
SUMMARY:Quizfrage 2682
DESCRIPTION:https://wp.pbcs.de/question/quizfrage-2682/ - Artikel vom: Mo.\, 29. September 2025\, 19:06:48 - Wenn Sie in -seven league boots- einen Schritt pro Sekunde machen würden wie hoch wäre Ihre Geschwindigkeit in Meilen pro Stunde?
LOCATION:https://wp.pbcs.de
CATEGORIES:Gelbe Kategorie
TRANSP:TRANSPARENT
X-MICROSOFT-CDO-BUSYSTATUS:FREE
SEQUENCE:0
CLASS:PUBLIC
PRIORITY:1
DTSTART:20260424T070000Z
DTEND:20260424T080000Z
BEGIN:VALARM
TRIGGER:-PT30M
ACTION:DISPLAY
DESCRIPTION:Reminder for Quizfrage 2682
END:VALARM
END:VEVENT
END:VCALENDAR
