BEGIN:VCALENDAR
VERSION:2.0
METHOD:PUBLISH
PRODID:- PBCS IT-News //NONSGML Events //EN
CALSCALE:GREGORIAN
X-WR-CALNAME:ICAL-BLOG
BEGIN:VEVENT
UID:c667c88b-0712-4820-9c31-b0c22f0c76ce
DTSTAMP:20260423T214016Z
CREATED:20260423T214016Z
SUMMARY:Quizfrage 2668
DESCRIPTION:https://wp.pbcs.de/question/quizfrage-2668/ - Artikel vom: Mo.\, 29. September 2025\, 19:06:47 - Wer hat ein Verlängerungstor für England erzielt um die Rugby-Weltmeisterschaft 2003 gegen Australien mit 20: 17 zu gewinnen?
LOCATION:https://wp.pbcs.de
CATEGORIES:Gelbe Kategorie
TRANSP:TRANSPARENT
X-MICROSOFT-CDO-BUSYSTATUS:FREE
SEQUENCE:0
CLASS:PUBLIC
PRIORITY:1
DTSTART:20260424T070000Z
DTEND:20260424T080000Z
BEGIN:VALARM
TRIGGER:-PT30M
ACTION:DISPLAY
DESCRIPTION:Reminder for Quizfrage 2668
END:VALARM
END:VEVENT
END:VCALENDAR
