BEGIN:VCALENDAR
VERSION:2.0
METHOD:PUBLISH
PRODID:- PBCS IT-News //NONSGML Events //EN
CALSCALE:GREGORIAN
X-WR-CALNAME:ICAL-BLOG
BEGIN:VEVENT
UID:08d23cf8-bbaf-4f9a-b058-fcd34d4b22f2
DTSTAMP:20260423T104133Z
CREATED:20260423T104133Z
SUMMARY:Quizfrage 2665
DESCRIPTION:https://wp.pbcs.de/question/quizfrage-2665/ - Artikel vom: Mo.\, 29. September 2025\, 19:06:47 - Welche Mannschaft hat 1993 1994 und 1996 das American Football Superbowl gewonnen?
LOCATION:https://wp.pbcs.de
CATEGORIES:Gelbe Kategorie
TRANSP:TRANSPARENT
X-MICROSOFT-CDO-BUSYSTATUS:FREE
SEQUENCE:0
CLASS:PUBLIC
PRIORITY:1
DTSTART:20260424T070000Z
DTEND:20260424T080000Z
BEGIN:VALARM
TRIGGER:-PT30M
ACTION:DISPLAY
DESCRIPTION:Reminder for Quizfrage 2665
END:VALARM
END:VEVENT
END:VCALENDAR
