BEGIN:VCALENDAR
VERSION:2.0
METHOD:PUBLISH
PRODID:- PBCS IT-News //NONSGML Events //EN
CALSCALE:GREGORIAN
X-WR-CALNAME:ICAL-BLOG
BEGIN:VEVENT
UID:90744bc4-8ad5-4591-89da-e8c25d1e73d2
DTSTAMP:20260424T040331Z
CREATED:20260424T040331Z
SUMMARY:Quizfrage 2653
DESCRIPTION:https://wp.pbcs.de/question/quizfrage-2653/ - Artikel vom: Mo.\, 29. September 2025\, 19:06:46 - Welche ehemalige Doctor Who-Schauspielerin spielte die Rolle des Nebula in Avengers: Infinity War?
LOCATION:https://wp.pbcs.de
CATEGORIES:Gelbe Kategorie
TRANSP:TRANSPARENT
X-MICROSOFT-CDO-BUSYSTATUS:FREE
SEQUENCE:0
CLASS:PUBLIC
PRIORITY:1
DTSTART:20260424T070000Z
DTEND:20260424T080000Z
BEGIN:VALARM
TRIGGER:-PT30M
ACTION:DISPLAY
DESCRIPTION:Reminder for Quizfrage 2653
END:VALARM
END:VEVENT
END:VCALENDAR
