BEGIN:VCALENDAR
VERSION:2.0
METHOD:PUBLISH
PRODID:- PBCS IT-News //NONSGML Events //EN
CALSCALE:GREGORIAN
X-WR-CALNAME:ICAL-BLOG
BEGIN:VEVENT
UID:98e7f915-6cd2-4181-9159-210bf07fc6b1
DTSTAMP:20260422T233014Z
CREATED:20260422T233014Z
SUMMARY:Quizfrage 2636
DESCRIPTION:https://wp.pbcs.de/question/quizfrage-2636/ - Artikel vom: Mo.\, 29. September 2025\, 19:06:45 - Wer hat 1810 die Blechdose zur Konservierung von Lebensmitteln erfunden?
LOCATION:https://wp.pbcs.de
CATEGORIES:Gelbe Kategorie
TRANSP:TRANSPARENT
X-MICROSOFT-CDO-BUSYSTATUS:FREE
SEQUENCE:0
CLASS:PUBLIC
PRIORITY:1
DTSTART:20260423T070000Z
DTEND:20260423T080000Z
BEGIN:VALARM
TRIGGER:-PT30M
ACTION:DISPLAY
DESCRIPTION:Reminder for Quizfrage 2636
END:VALARM
END:VEVENT
END:VCALENDAR
