BEGIN:VCALENDAR
VERSION:2.0
METHOD:PUBLISH
PRODID:- PBCS IT-News //NONSGML Events //EN
CALSCALE:GREGORIAN
X-WR-CALNAME:ICAL-BLOG
BEGIN:VEVENT
UID:4af3ef43-0b31-4da4-a9f8-6b09c5ea3e31
DTSTAMP:20260421T125833Z
CREATED:20260421T125833Z
SUMMARY:Prüfung Kartfahren
DESCRIPTION:https://wp.pbcs.de/pruefung-schulung-kart-fahren/ - Artikel vom: Sa.\, 1. November 2025\, 13:53:45 - Für alle Kartfreunde sind hier ein paar Fragen aus der Prüfungsordnung für eine Kart-Lizenz. Diese #Prüfung unterstützt Sie dabei\, den aktuellen Wissensstand zu erfassen und die Einhaltung der gesetzlichen Vorgaben zu fördern. Wenn Sie mehr als 50 % erreichen\, gilt die Prüfung als bestanden. Die benötigte Zeit wird automatisch protokolliert.\n \n[personal_quiz items=10 suche="Kartfahren:"]
LOCATION:https://wp.pbcs.de
CATEGORIES:Gelbe Kategorie
TRANSP:TRANSPARENT
X-MICROSOFT-CDO-BUSYSTATUS:FREE
SEQUENCE:0
CLASS:PUBLIC
PRIORITY:1
DTSTART:20260416T070000Z
DTEND:20260416T080000Z
BEGIN:VALARM
TRIGGER:-PT30M
ACTION:DISPLAY
DESCRIPTION:Reminder for Prüfung Kartfahren
END:VALARM
END:VEVENT
END:VCALENDAR
