BEGIN:VCALENDAR
VERSION:2.0
METHOD:PUBLISH
PRODID:- PBCS IT-News //NONSGML Events //EN
CALSCALE:GREGORIAN
X-WR-CALNAME:ICAL-BLOG
BEGIN:VEVENT
UID:128dc2ff-3257-4edc-9838-3f7430cd6330
DTSTAMP:20260425T150537Z
CREATED:20260425T150537Z
SUMMARY:Podcasts und Audio-Medien
DESCRIPTION:https://wp.pbcs.de/podcasts/ - Artikel vom: Fr.\, 6. März 2026\, 16:03:10 - all posts on this site that can be heard as podcasts
LOCATION:https://wp.pbcs.de
CATEGORIES:Gelbe Kategorie
TRANSP:TRANSPARENT
X-MICROSOFT-CDO-BUSYSTATUS:FREE
SEQUENCE:0
CLASS:PUBLIC
PRIORITY:1
DTSTART:20260425T070000Z
DTEND:20260425T080000Z
BEGIN:VALARM
TRIGGER:-PT30M
ACTION:DISPLAY
DESCRIPTION:Reminder for Podcasts und Audio-Medien
END:VALARM
END:VEVENT
END:VCALENDAR
