BEGIN:VCALENDAR
VERSION:2.0
METHOD:PUBLISH
PRODID:- PBCS IT-News //NONSGML Events //EN
CALSCALE:GREGORIAN
X-WR-CALNAME:ICAL-BLOG
BEGIN:VEVENT
UID:02093a61-ea40-4217-af8e-2cba8e2d49bf
DTSTAMP:20260419T134317Z
CREATED:20260419T134317Z
SUMMARY:PDFCreator Aktualisierung auf Version 1.3.1
DESCRIPTION:https://wp.pbcs.de/pdfcreator-aktualisierung-auf-version-1-3-1/ - Artikel vom: Mi.\, 21. März 2012\, 11:17:40 - mit GPL Ghostscript 9.05 im Bauch und aktualisierter und schnellerer grafischer Oberfläche. Der REDMon Printmonitor wurde durch ein eigenes Objekt ersetzt. Nachdem die erste Version 1.3.0 noch einige böse Fehler hatte\, macht Version 1.3.1 nun wirklich ein gutes Bild. Die Installationsparameter bleiben wie bei den Vorgängerversionen. :8 (Post ID:716)
LOCATION:https://wp.pbcs.de
CATEGORIES:Gelbe Kategorie
TRANSP:TRANSPARENT
X-MICROSOFT-CDO-BUSYSTATUS:FREE
SEQUENCE:0
CLASS:PUBLIC
PRIORITY:1
DTSTART:20260313T080000Z
DTEND:20260313T090000Z
BEGIN:VALARM
TRIGGER:-PT30M
ACTION:DISPLAY
DESCRIPTION:Reminder for PDFCreator Aktualisierung auf Version 1.3.1
END:VALARM
END:VEVENT
END:VCALENDAR
