BEGIN:VCALENDAR
VERSION:2.0
METHOD:PUBLISH
PRODID:- PBCS IT-News //NONSGML Events //EN
CALSCALE:GREGORIAN
X-WR-CALNAME:ICAL-BLOG
BEGIN:VEVENT
UID:b9fabf17-31a2-4ea9-8bc3-49d0a205904d
DTSTAMP:20260425T001358Z
CREATED:20260425T001358Z
SUMMARY:Passwort für Fritzbox im LAN speichern
DESCRIPTION:https://wp.pbcs.de/passwort-fuer-fritzbox-im-lan-speichern/ - Artikel vom: So.\, 27. Juni 2021\, 21:10:00 - Update Juni 2021: Google hat die unten beschriebene Funktion\, Passwortspeichern zu erzwingen\, leider entfernt. Bei Webseiten\, die dem Browser autocomplete=off senden\, hilft derzeit nur die Chrome Erweiterung autocomplete=on.\n \nDie #Fritzbox und einige Webseiten und Geräte im eigenen Netzwerk verhindern\, dass man das Anmelde #Passwort im Chrome Browser speichert. Bei einer Anmeldung im lokalen Netzwerk ist das Speichern von Passwörtern grundsätzlich kein Problem. Solange man dem Anmeldebenutzer auf der Fritzbox also nur das Recht gibt\, sich mit diesem Kennwort im LAN anzumelden\, kann nichts passieren: chrome://flags/[hash]enable-password-force-saving aufrufen\, aktivieren und Browser neu starten. Fritzbox Homepage aufrufen und Kennwort eingeben (aber noch nicht anmelden). Rechte Maustaste\, Passwort speichern. Speichern. Dann anmelden. Für [Hash] setzen Sie bitte die Raute ein. Das o.g. Flag kann nun wieder auf "automatisch" gesetzt werden. (Post ID:1064)
LOCATION:https://wp.pbcs.de
CATEGORIES:Gelbe Kategorie
TRANSP:TRANSPARENT
X-MICROSOFT-CDO-BUSYSTATUS:FREE
SEQUENCE:0
CLASS:PUBLIC
PRIORITY:1
DTSTART:20260425T070000Z
DTEND:20260425T080000Z
BEGIN:VALARM
TRIGGER:-PT30M
ACTION:DISPLAY
DESCRIPTION:Reminder for Passwort für Fritzbox im LAN speichern
END:VALARM
END:VEVENT
END:VCALENDAR
