BEGIN:VCALENDAR
VERSION:2.0
METHOD:PUBLISH
PRODID:- PBCS IT-News //NONSGML Events //EN
CALSCALE:GREGORIAN
X-WR-CALNAME:ICAL-BLOG
BEGIN:VEVENT
UID:0d5f06f3-23e2-4cc2-93d0-6a0ec7fb7c1a
DTSTAMP:20260421T141915Z
CREATED:20260421T141915Z
SUMMARY:Opera 9.01 bringt einige kleine Bugfixes
DESCRIPTION:https://wp.pbcs.de/opera-9-01-bringt-einige-kleine-bugfixes/ - Artikel vom: Sa.\, 5. August 2006\, 11:43:27 - und stürzt damit weniger häufig ab\, als sein direkter Vorgänger. Update empfohlen. :8 (Post ID:631)
LOCATION:https://wp.pbcs.de
CATEGORIES:Gelbe Kategorie
TRANSP:TRANSPARENT
X-MICROSOFT-CDO-BUSYSTATUS:FREE
SEQUENCE:0
CLASS:PUBLIC
PRIORITY:1
DTSTART:20260422T070000Z
DTEND:20260422T080000Z
BEGIN:VALARM
TRIGGER:-PT30M
ACTION:DISPLAY
DESCRIPTION:Reminder for Opera 9.01 bringt einige kleine Bugfixes
END:VALARM
END:VEVENT
END:VCALENDAR
