BEGIN:VCALENDAR
VERSION:2.0
METHOD:PUBLISH
PRODID:- PBCS IT-News //NONSGML Events //EN
CALSCALE:GREGORIAN
X-WR-CALNAME:ICAL-BLOG
BEGIN:VEVENT
UID:21d1c308-0a08-4f00-ab9c-1962f4f0a0df
DTSTAMP:20260419T144557Z
CREATED:20260419T144557Z
SUMMARY:Notepad PlusPlus :J
DESCRIPTION:https://wp.pbcs.de/notepad-plusplus-j/ - Artikel vom: Mo.\, 3. Oktober 2016\, 11:56:41 - Den beliebten Text-Editor gibt es nun ab Version 7.0 auch in 64-Bit. Damit fällt die Größenbeschränkung im RAM von 4 GByte weg. Wer jedoch mit NPP Plugins arbeitet\, sollte weiterhin die 32-Bit-Variante installieren. Beispiel-Plugins sind der integrierbare File-Explorer oder der Farbpicker für CSS und HTML-Dateien. Ich paketiere hier zunächst weiterhin die 32-Bit-Version. (Post ID:1036)
LOCATION:https://wp.pbcs.de
CATEGORIES:Gelbe Kategorie
TRANSP:TRANSPARENT
X-MICROSOFT-CDO-BUSYSTATUS:FREE
SEQUENCE:0
CLASS:PUBLIC
PRIORITY:1
DTSTART:20260313T080000Z
DTEND:20260313T090000Z
BEGIN:VALARM
TRIGGER:-PT30M
ACTION:DISPLAY
DESCRIPTION:Reminder for Notepad PlusPlus :J
END:VALARM
END:VEVENT
END:VCALENDAR
