BEGIN:VCALENDAR
VERSION:2.0
METHOD:PUBLISH
PRODID:- PBCS IT-News //NONSGML Events //EN
CALSCALE:GREGORIAN
X-WR-CALNAME:ICAL-BLOG
BEGIN:VEVENT
UID:8566d54e-c469-4fd1-969c-4f55254bf6f1
DTSTAMP:20260424T202308Z
CREATED:20260424T202308Z
SUMMARY:Newsletter-System
DESCRIPTION:https://wp.pbcs.de/newsletter-system/ - Artikel vom: So.\, 26. März 2006\, 14:20:02 - Webbasierter Newsletter-Generator mit Gruppenverwaltung und Textvorlagen\, online administrierbar - jetzt auch mit Geburtstagen und persönlicher Grussformel. (Post ID:605)
LOCATION:https://wp.pbcs.de
CATEGORIES:Gelbe Kategorie
TRANSP:TRANSPARENT
X-MICROSOFT-CDO-BUSYSTATUS:FREE
SEQUENCE:0
CLASS:PUBLIC
PRIORITY:1
DTSTART:20260425T070000Z
DTEND:20260425T080000Z
BEGIN:VALARM
TRIGGER:-PT30M
ACTION:DISPLAY
DESCRIPTION:Reminder for Newsletter-System
END:VALARM
END:VEVENT
END:VCALENDAR
