BEGIN:VCALENDAR
VERSION:2.0
METHOD:PUBLISH
PRODID:- PBCS IT-News //NONSGML Events //EN
CALSCALE:GREGORIAN
X-WR-CALNAME:ICAL-BLOG
BEGIN:VEVENT
UID:08a3657b-e99c-4f2b-96e3-3bdc180ced52
DTSTAMP:20260419T145056Z
CREATED:20260419T145056Z
SUMMARY:Angebote
DESCRIPTION:https://wp.pbcs.de/neueste-angebote/ - Artikel vom: Di.\, 7. April 2026\, 15:19:22 - [popular_posts title_link="/shop/?view=list&orderby=modified-desc&order=DESC&fulltext=1&posts-per-page=40" orderby="rand" posts_per_page=3 post_type="product"]
LOCATION:https://wp.pbcs.de
CATEGORIES:Gelbe Kategorie
TRANSP:TRANSPARENT
X-MICROSOFT-CDO-BUSYSTATUS:FREE
SEQUENCE:0
CLASS:PUBLIC
PRIORITY:1
DTSTART:20260417T070000Z
DTEND:20260417T080000Z
BEGIN:VALARM
TRIGGER:-PT30M
ACTION:DISPLAY
DESCRIPTION:Reminder for Angebote
END:VALARM
END:VEVENT
END:VCALENDAR
