BEGIN:VCALENDAR
VERSION:2.0
METHOD:PUBLISH
PRODID:- PBCS IT-News //NONSGML Events //EN
CALSCALE:GREGORIAN
X-WR-CALNAME:ICAL-BLOG
BEGIN:VEVENT
UID:c44918fd-87af-46dc-9b0f-dbaff2556545
DTSTAMP:20260419T134528Z
CREATED:20260419T134528Z
SUMMARY:Neue kritische Sicherheitslücke im Internet Explorer
DESCRIPTION:https://wp.pbcs.de/neue-kritische-sicherheitsluecke-im-internet-explorer/ - Artikel vom: Sa.\, 1. Oktober 2005\, 13:57:12 - Bitte die Sicherheitseinstellungen für die Zone "Internet" wieder auf "Hoch" setzen - solange\, bis Microsoft einen Patch liefert. Alternativ können Sie den Browser "Mozilla Firefox" ab Version 1.0.7 installieren und verwenden. (Post ID:588)
LOCATION:https://wp.pbcs.de
CATEGORIES:Gelbe Kategorie
TRANSP:TRANSPARENT
X-MICROSOFT-CDO-BUSYSTATUS:FREE
SEQUENCE:0
CLASS:PUBLIC
PRIORITY:1
DTSTART:20260309T080000Z
DTEND:20260309T090000Z
BEGIN:VALARM
TRIGGER:-PT30M
ACTION:DISPLAY
DESCRIPTION:Reminder for Neue kritische Sicherheitslücke im Internet Explorer
END:VALARM
END:VEVENT
END:VCALENDAR
