BEGIN:VCALENDAR
VERSION:2.0
METHOD:PUBLISH
PRODID:- PBCS IT-News //NONSGML Events //EN
CALSCALE:GREGORIAN
X-WR-CALNAME:ICAL-BLOG
BEGIN:VEVENT
UID:3429964a-9207-4002-be69-d6c8a85119f0
DTSTAMP:20260420T125601Z
CREATED:20260420T125601Z
SUMMARY:Microsoft Copilot pro verfügbar
DESCRIPTION:https://wp.pbcs.de/microsoft-copilot-pro-verfuegbar/ - Artikel vom: Di.\, 16. Januar 2024\, 11:32:20 - Kurz notiert: Microsoft bietet den Copilot in der kostenlosen Variante\, der limitiert ist. Zu Spitzenzeiten sind die Wartezeiten länger und es wird auf ältere Trainingsmodelle (älter als ChatGPT-4 und Dall-E 4) zurückgeschaltet. Auch steht der Turbo-Modus nicht zur Verfügung und Bilder können nur im Seiten-Verhältnis 1:1 erstellt werden\, nicht 16:9 und nicht Breitformat. Im Microsoft Designer stehen auch nur eingeschränkte Funktionen zur Verfügung. Designer ist quasi eine #KI unterstützte Bildbearbeitung im Browser. Zusätzlich können maximal 15 Bilder pro Woche erzeugt werden.\n \nAb sofort ist auch Copilot pro erhältlich. Die Aufhebung der Limitierungen schlägt mit 22 € pro User pro Monat zur Verfügung und verspricht zusätzlich eine bessere Integration der KI in Office Apps.\n \n\n \n \n\nBevorzugter Zugang zu GPT-4 und GPT-4 Turbo auch in Spitzenlastzeiten für mehr Leistung und schnellere Bearbeitung Ihrer Aufgaben\n \nZugriff auf Copilot in ausgewählten Microsoft 365-Apps\, um Dokumente zu entwerfen\, E-Mails zusammenzufassen\, Präsentationen zu erstellen und vieles mehr\n \nGenerieren Sie KI-Bilder mit DALL-E 3 im Querformat jetzt noch schneller mit Designer (früher Bing Image Creator) und 100 Boosts pro Tag\n\nhttps://www.microsoft.com/de-de/store/b/copilotpro?rtc=1
LOCATION:https://wp.pbcs.de
CATEGORIES:Gelbe Kategorie
TRANSP:TRANSPARENT
X-MICROSOFT-CDO-BUSYSTATUS:FREE
SEQUENCE:0
CLASS:PUBLIC
PRIORITY:1
DTSTART:20260421T070000Z
DTEND:20260421T080000Z
BEGIN:VALARM
TRIGGER:-PT30M
ACTION:DISPLAY
DESCRIPTION:Reminder for Microsoft Copilot pro verfügbar
END:VALARM
END:VEVENT
END:VCALENDAR
