BEGIN:VCALENDAR
VERSION:2.0
METHOD:PUBLISH
PRODID:- PBCS IT-News //NONSGML Events //EN
CALSCALE:GREGORIAN
X-WR-CALNAME:ICAL-BLOG
BEGIN:VEVENT
UID:4f0944ce-07d8-4c52-ac6c-af69c2853867
DTSTAMP:20260419T144401Z
CREATED:20260419T144401Z
SUMMARY:KI und vermeintlich politische Themen
DESCRIPTION:https://wp.pbcs.de/ki-und-vermeintlich-politische-themen/ - Artikel vom: Do.\, 6. Februar 2025\, 15:47:42 - Es ist immer wieder eine Herausforderung\, von den gängigen #KI Illustrationen zu bestimmten Themen zu bekommen\, weil deren Wortfilter auch unverfängliche Themen als böse (false positive) einstuft.\n \nSo ist es beispielsweise weder bei Google Gemini (Imagen3)\, noch bei Microsoft Designer\, noch bei OpenAI (Dall-E 4.0) möglich\, ein Bild über "kritische Sicherheitslücken im Universaldruckertreiber" zu bekommen. Man muss sich eben zu helfen wissen und das solange anders umschreiben\, bis es durchkommt. Wir berichteten bereits über die Stellenbeschreibung zum Kondomtester :)\n \n\n \nAnlässlich eines Wortspiels zum neuen US-Präsidenten: Donut Trump sollten alle KIs Resultate liefern zum Prompt "Donut Trump" und zeigen\, was sie (der die das KIs) sich darunter vorstellen. \n \nResultat: "Ich kann derzeit keine politischen Themen" oder "böses Wort verwendet". KI sieht also etwas Böses in den Worten\, sagt aber nicht wen oder was es meint.\n \nDer Prompt: "erstelle ein fotorealistisches Bild von Donut Drump mit Engelshaar und Pistaziencreme" führt dann ohne Umwege zum unten stehenden Bild. Da man die Du*** Schokolade ja nicht mehr so nennen darf\, wenn sie in KI-Land produziert wurde\, ist ein Teil von mir verpixelt \;) Besonders gelungen ist übrigens die lebensechte Nachbildung der "Frisur" mit Engelshaar. Möglicherweise habe ich nun die Bäckerei der gleichnamigen Verwandschaft angestiftet\, das abgebildete Produkt rauszubringen. Viel Gold passt ja schon mal.
LOCATION:https://wp.pbcs.de
CATEGORIES:Gelbe Kategorie
TRANSP:TRANSPARENT
X-MICROSOFT-CDO-BUSYSTATUS:FREE
SEQUENCE:0
CLASS:PUBLIC
PRIORITY:1
DTSTART:20260420T070000Z
DTEND:20260420T080000Z
BEGIN:VALARM
TRIGGER:-PT30M
ACTION:DISPLAY
DESCRIPTION:Reminder for KI und vermeintlich politische Themen
END:VALARM
END:VEVENT
END:VCALENDAR
