BEGIN:VCALENDAR
VERSION:2.0
METHOD:PUBLISH
PRODID:- PBCS IT-News //NONSGML Events //EN
CALSCALE:GREGORIAN
X-WR-CALNAME:ICAL-BLOG
BEGIN:VEVENT
UID:9b5f89da-cee8-4f99-92c7-8b63e252ce21
DTSTAMP:20260421T125832Z
CREATED:20260421T125832Z
SUMMARY:Jahresabschluß mit Sonderangeboten im Shop
DESCRIPTION:https://wp.pbcs.de/jahresabschluss-mit-sonderangeboten-im-shop/ - Artikel vom: Do.\, 26. Dezember 2013\, 17:32:20 - Bestimmt ist etwas für Sie dabei. Setzen Sie vorhandene Budgets noch vor Ablauf des Jahres um. Hier gehts zum Shop (Post ID:681)
LOCATION:https://wp.pbcs.de
CATEGORIES:Gelbe Kategorie
TRANSP:TRANSPARENT
X-MICROSOFT-CDO-BUSYSTATUS:FREE
SEQUENCE:0
CLASS:PUBLIC
PRIORITY:1
DTSTART:20260309T080000Z
DTEND:20260309T090000Z
BEGIN:VALARM
TRIGGER:-PT30M
ACTION:DISPLAY
DESCRIPTION:Reminder for Jahresabschluß mit Sonderangeboten im Shop
END:VALARM
END:VEVENT
END:VCALENDAR
