BEGIN:VCALENDAR
VERSION:2.0
METHOD:PUBLISH
PRODID:- PBCS IT-News //NONSGML Events //EN
CALSCALE:GREGORIAN
X-WR-CALNAME:ICAL-BLOG
BEGIN:VEVENT
UID:3c2163cc-b202-4ebe-8ed4-bc5bc7a7bfb7
DTSTAMP:20260419T164154Z
CREATED:20260419T164154Z
SUMMARY:Internet Explorer Lücken
DESCRIPTION:https://wp.pbcs.de/internet-explorer-luecken/ - Artikel vom: Mo.\, 3. Juli 2006\, 19:52:41 - Internet-Explorer Noch keine Entwarnung. Heise berichtet von weiteren kritischen Sicherheitslücken im IE. Eigentlich besteht der IE NUR aus Sicherheitslücken. Solange (und überhaupt) bin ich mit Opera ganz zufrieden. Die drei Anbieter\, die ich nur mit IE erreiche habe ich schon wegen Barrierefreiheit angeschrieben :D (edit: 03.07.2006 18:50:43) (Post ID:629)
LOCATION:https://wp.pbcs.de
CATEGORIES:Gelbe Kategorie
TRANSP:TRANSPARENT
X-MICROSOFT-CDO-BUSYSTATUS:FREE
SEQUENCE:0
CLASS:PUBLIC
PRIORITY:1
DTSTART:20260416T070000Z
DTEND:20260416T080000Z
BEGIN:VALARM
TRIGGER:-PT30M
ACTION:DISPLAY
DESCRIPTION:Reminder for Internet Explorer Lücken
END:VALARM
END:VEVENT
END:VCALENDAR
