BEGIN:VCALENDAR
VERSION:2.0
METHOD:PUBLISH
PRODID:- PBCS IT-News //NONSGML Events //EN
CALSCALE:GREGORIAN
X-WR-CALNAME:ICAL-BLOG
BEGIN:VEVENT
UID:a5309680-e8f8-4955-b4cf-c49cd2c42ad3
DTSTAMP:20260421T111216Z
CREATED:20260421T111216Z
SUMMARY:Hardware: Kleine Funkmaus
DESCRIPTION:https://wp.pbcs.de/hardware-kleine-funkmaus/ - Artikel vom: Fr.\, 10. Juni 2005\, 19:30:00 - mit großer Reichweite für's Notebook (Post ID:54)
LOCATION:https://wp.pbcs.de
CATEGORIES:Gelbe Kategorie
TRANSP:TRANSPARENT
X-MICROSOFT-CDO-BUSYSTATUS:FREE
SEQUENCE:0
CLASS:PUBLIC
PRIORITY:1
DTSTART:20260416T070000Z
DTEND:20260416T080000Z
BEGIN:VALARM
TRIGGER:-PT30M
ACTION:DISPLAY
DESCRIPTION:Reminder for Hardware: Kleine Funkmaus
END:VALARM
END:VEVENT
END:VCALENDAR
